BEGIN:VCALENDAR
VERSION:2.0
PRODID:-//TSV von 1862 Sonnefeld e.V. - ECPv4.6.18//NONSGML v1.0//EN
CALSCALE:GREGORIAN
METHOD:PUBLISH
X-WR-CALNAME:TSV von 1862 Sonnefeld e.V.
X-ORIGINAL-URL:https://tsvsonnefeld.de
X-WR-CALDESC:Veranstaltungen für TSV von 1862 Sonnefeld e.V.
BEGIN:VEVENT
DTSTART;VALUE=DATE:20181225
DTEND;VALUE=DATE:20181226
DTSTAMP:20260423T042657
CREATED:20181018T135710Z
LAST-MODIFIED:20181018T135710Z
UID:4699-1545696000-1545782399@tsvsonnefeld.de
SUMMARY:Christmas Party Domäne Sonnefeld
DESCRIPTION:
URL:https://tsvsonnefeld.de/kalender/christmas-party-domaene-sonnefeld/
END:VEVENT
END:VCALENDAR