BEGIN:VCALENDAR
VERSION:2.0
PRODID:-//TSV von 1862 Sonnefeld e.V. - ECPv4.6.18//NONSGML v1.0//EN
CALSCALE:GREGORIAN
METHOD:PUBLISH
X-WR-CALNAME:TSV von 1862 Sonnefeld e.V.
X-ORIGINAL-URL:https://tsvsonnefeld.de
X-WR-CALDESC:Veranstaltungen für TSV von 1862 Sonnefeld e.V.
BEGIN:VEVENT
DTSTART;VALUE=DATE:20190406
DTEND;VALUE=DATE:20190408
DTSTAMP:20260422T235744
CREATED:20190225T070445Z
LAST-MODIFIED:20190225T070445Z
UID:4944-1554508800-1554681599@tsvsonnefeld.de
SUMMARY:AH-Skiausflug
DESCRIPTION:Ratschings \n
URL:https://tsvsonnefeld.de/kalender/ah-skiausflug/
END:VEVENT
END:VCALENDAR