BEGIN:VCALENDAR
VERSION:2.0
PRODID:-//TSV von 1862 Sonnefeld e.V. - ECPv4.6.18//NONSGML v1.0//EN
CALSCALE:GREGORIAN
METHOD:PUBLISH
X-WR-CALNAME:TSV von 1862 Sonnefeld e.V.
X-ORIGINAL-URL:https://tsvsonnefeld.de
X-WR-CALDESC:Veranstaltungen für TSV von 1862 Sonnefeld e.V.
BEGIN:VEVENT
DTSTART;VALUE=DATE:20190720
DTEND;VALUE=DATE:20190721
DTSTAMP:20260422T235805
CREATED:20190225T070512Z
LAST-MODIFIED:20190225T070512Z
UID:4946-1563580800-1563667199@tsvsonnefeld.de
SUMMARY:AH-Sommerfest
DESCRIPTION:
URL:https://tsvsonnefeld.de/kalender/ah-sommerfest/
END:VEVENT
END:VCALENDAR