BEGIN:VCALENDAR
VERSION:2.0
PRODID:-//TSV von 1862 Sonnefeld e.V. - ECPv4.6.18//NONSGML v1.0//EN
CALSCALE:GREGORIAN
METHOD:PUBLISH
X-WR-CALNAME:TSV von 1862 Sonnefeld e.V.
X-ORIGINAL-URL:https://tsvsonnefeld.de
X-WR-CALDESC:Veranstaltungen für TSV von 1862 Sonnefeld e.V.
BEGIN:VEVENT
DTSTART;VALUE=DATE:20190712
DTEND;VALUE=DATE:20190713
DTSTAMP:20260422T235535
CREATED:20190225T071610Z
LAST-MODIFIED:20190225T071610Z
UID:4970-1562889600-1562975999@tsvsonnefeld.de
SUMMARY:FC Mitwitz - TSV AH
DESCRIPTION:
URL:https://tsvsonnefeld.de/kalender/fc-mitwitz-tsv-ah/
END:VEVENT
END:VCALENDAR