BEGIN:VCALENDAR
VERSION:2.0
PRODID:-//TSV von 1862 Sonnefeld e.V. - ECPv4.6.18//NONSGML v1.0//EN
CALSCALE:GREGORIAN
METHOD:PUBLISH
X-WR-CALNAME:TSV von 1862 Sonnefeld e.V.
X-ORIGINAL-URL:https://tsvsonnefeld.de
X-WR-CALDESC:Veranstaltungen für TSV von 1862 Sonnefeld e.V.
BEGIN:VEVENT
DTSTART;VALUE=DATE:20190209
DTEND;VALUE=DATE:20190210
DTSTAMP:20260422T171743
CREATED:20181018T135743Z
LAST-MODIFIED:20190110T122437Z
UID:4701-1549670400-1549756799@tsvsonnefeld.de
SUMMARY:Jahreshauptversammlung 2019
DESCRIPTION:Die Jahreshauptversammlung findet am Samstag\, den 09. Februar 2019 um 14.00 Uhr im TSV Sportheim statt. \nAlle Vereinsmitglieder werden hiermit zur Hauptversammlung herzlich eingeladen. \nTagesordnung: \n\nBegrüßung\nTotenehrung\nVerlesung der Niederschrift 2018\nBericht des 1. Vorsitzenden\nBericht des Kassiers\nBericht der Kassenprüfer\nBericht des Beitragskassiers\nBericht der Fußballabteilung\nBericht der Abteilungen\nVereinsausschuss\nEhrungen\n\nPAUSE \n11.Entlastung der Vorstandschaft\n12. Neuwahlen\n13. Anträge und Wünsche der Mitglieder\nZu Punkt 13.: Anträge zur Hauptversammlung bitte bis zum 05. Februar 2019 einreichen.\n14. Verschiedenes \n
URL:https://tsvsonnefeld.de/kalender/jahreshauptversammlung-2019/
END:VEVENT
END:VCALENDAR