BEGIN:VCALENDAR
VERSION:2.0
PRODID:-//TSV von 1862 Sonnefeld e.V. - ECPv4.6.18//NONSGML v1.0//EN
CALSCALE:GREGORIAN
METHOD:PUBLISH
X-WR-CALNAME:TSV von 1862 Sonnefeld e.V.
X-ORIGINAL-URL:https://tsvsonnefeld.de
X-WR-CALDESC:Veranstaltungen für TSV von 1862 Sonnefeld e.V.
BEGIN:VEVENT
DTSTART;VALUE=DATE:20220409
DTEND;VALUE=DATE:20220410
DTSTAMP:20260423T050607
CREATED:20220308T085733Z
LAST-MODIFIED:20220308T085733Z
UID:5108-1649462400-1649548799@tsvsonnefeld.de
SUMMARY:Jahreshauptversammlung 2022
DESCRIPTION:Jahreshauptversammlung 2022\nEinladung aller Mitglieder des TSV Sonnefeld von 1862 e.V. zur Jahreshauptversammlung 2022 am Samstag\, 09.04.2022 um 17:00 Uhr im Sportheim TSV Sonnefeld \n1.Begrüßung\, Totenehrung\n2.Verlesung der Niederschrift\n3.Bericht des 1. Vorsitzenden\n4.Bericht des Kassiers\n5.Bericht der Kassenprüfer\n6.Bericht der Fußballabteilung\n7.Bericht der Abteilungen\n8.Vereinsausschuss\n9.Ehrungen\n-PAUSE-\n10.Anpassung der Mitgliedsbeiträge\n11.Informationen und Vorstellung der aktuellen Planungsunterlagen &#8222;Umbau Hartplatz in Kunstrasenplatz&#8220;\n12.Entlastung der Vorstandschaft\n13.Neuwahlen\n14.Anträge und Wünsche der Mitglieder\n15.Verschiedenes \nAnträge sind bis Samstag\, den 02.04.2022 beim Vorsitzenden einzureichen. \nLouis Kappenberger\,\n1. Vorsitzender \nEs gilt die 3G-Regel. (geimpft\, genesen oder getestet)\nStand 08.03.22 \n
URL:https://tsvsonnefeld.de/kalender/jahreshauptversammlung-2022/
ATTACH;FMTTYPE=image/png:https://tsvsonnefeld.de/wp-content/uploads/2019/01/images.png
END:VEVENT
END:VCALENDAR