BEGIN:VCALENDAR
VERSION:2.0
PRODID:-//TSV von 1862 Sonnefeld e.V. - ECPv4.6.18//NONSGML v1.0//EN
CALSCALE:GREGORIAN
METHOD:PUBLISH
X-WR-CALNAME:TSV von 1862 Sonnefeld e.V.
X-ORIGINAL-URL:https://tsvsonnefeld.de
X-WR-CALDESC:Veranstaltungen für TSV von 1862 Sonnefeld e.V.
BEGIN:VEVENT
DTSTART;VALUE=DATE:20190614
DTEND;VALUE=DATE:20190617
DTSTAMP:20260422T221626
CREATED:20181018T135904Z
LAST-MODIFIED:20181018T135904Z
UID:4705-1560470400-1560729599@tsvsonnefeld.de
SUMMARY:Jubiläum 100 Jahre Fußballabteilung TSV Sonnefeld
DESCRIPTION:Festwochenende \n
URL:https://tsvsonnefeld.de/kalender/jubilaeum-100-jahre-fussballabteilung-tsv-sonnefeld/
END:VEVENT
END:VCALENDAR