BEGIN:VCALENDAR
VERSION:2.0
PRODID:-//TSV von 1862 Sonnefeld e.V. - ECPv4.6.18//NONSGML v1.0//EN
CALSCALE:GREGORIAN
METHOD:PUBLISH
X-WR-CALNAME:TSV von 1862 Sonnefeld e.V.
X-ORIGINAL-URL:https://tsvsonnefeld.de
X-WR-CALDESC:Veranstaltungen für TSV von 1862 Sonnefeld e.V.
BEGIN:VEVENT
DTSTART;VALUE=DATE:20190913
DTEND;VALUE=DATE:20190914
DTSTAMP:20260422T191730
CREATED:20181018T135959Z
LAST-MODIFIED:20181018T135959Z
UID:4709-1568332800-1568419199@tsvsonnefeld.de
SUMMARY:Kirchweihtanz 2019
DESCRIPTION:Domäne Sonnefeld \n
URL:https://tsvsonnefeld.de/kalender/kirchweihtanz-2019/
END:VEVENT
END:VCALENDAR