BEGIN:VCALENDAR
VERSION:2.0
PRODID:-//TSV von 1862 Sonnefeld e.V. - ECPv4.6.18//NONSGML v1.0//EN
CALSCALE:GREGORIAN
METHOD:PUBLISH
X-WR-CALNAME:TSV von 1862 Sonnefeld e.V.
X-ORIGINAL-URL:https://tsvsonnefeld.de
X-WR-CALDESC:Veranstaltungen für TSV von 1862 Sonnefeld e.V.
BEGIN:VEVENT
DTSTART;VALUE=DATE:20180617
DTEND;VALUE=DATE:20180618
DTSTAMP:20260423T012902
CREATED:20180613T123841Z
LAST-MODIFIED:20180613T124341Z
UID:4293-1529193600-1529279999@tsvsonnefeld.de
SUMMARY:WM Public Viewing Deutschland vs. Mexiko
DESCRIPTION:Deutschland vs. Mexiko &#8211; Anstoß 17.00 Uhr \nDas Sportheim ist ab 16.00 Uhr geöffnet \n
URL:https://tsvsonnefeld.de/kalender/public-viewing-im-sportheim/
END:VEVENT
END:VCALENDAR