BEGIN:VCALENDAR
VERSION:2.0
PRODID:-//TSV von 1862 Sonnefeld e.V. - ECPv4.6.18//NONSGML v1.0//EN
CALSCALE:GREGORIAN
METHOD:PUBLISH
X-WR-CALNAME:TSV von 1862 Sonnefeld e.V.
X-ORIGINAL-URL:https://tsvsonnefeld.de
X-WR-CALDESC:Veranstaltungen für TSV von 1862 Sonnefeld e.V.
BEGIN:VEVENT
DTSTART;VALUE=DATE:20190430
DTEND;VALUE=DATE:20190501
DTSTAMP:20260422T190030
CREATED:20181018T135759Z
LAST-MODIFIED:20181018T135759Z
UID:4703-1556582400-1556668799@tsvsonnefeld.de
SUMMARY:Tanz in den Mai
DESCRIPTION:
URL:https://tsvsonnefeld.de/kalender/tanz-in-den-mai/
END:VEVENT
END:VCALENDAR