BEGIN:VCALENDAR
VERSION:2.0
PRODID:-//TSV von 1862 Sonnefeld e.V. - ECPv4.6.18//NONSGML v1.0//EN
CALSCALE:GREGORIAN
METHOD:PUBLISH
X-WR-CALNAME:TSV von 1862 Sonnefeld e.V.
X-ORIGINAL-URL:https://tsvsonnefeld.de
X-WR-CALDESC:Veranstaltungen für TSV von 1862 Sonnefeld e.V.
BEGIN:VEVENT
DTSTART;VALUE=DATE:20180629
DTEND;VALUE=DATE:20180630
DTSTAMP:20260422T191606
CREATED:20180615T081453Z
LAST-MODIFIED:20180615T081519Z
UID:4593-1530230400-1530316799@tsvsonnefeld.de
SUMMARY:Testspiel beim TSV Ebensfeld
DESCRIPTION:Anstoß in Ebensfeld 18:30 Uhr \n
URL:https://tsvsonnefeld.de/kalender/testspiel-beim-tsv-ebensfeld/
END:VEVENT
END:VCALENDAR