BEGIN:VCALENDAR
VERSION:2.0
PRODID:-//TSV von 1862 Sonnefeld e.V. - ECPv4.6.18//NONSGML v1.0//EN
CALSCALE:GREGORIAN
METHOD:PUBLISH
X-WR-CALNAME:TSV von 1862 Sonnefeld e.V.
X-ORIGINAL-URL:https://tsvsonnefeld.de
X-WR-CALDESC:Veranstaltungen für TSV von 1862 Sonnefeld e.V.
BEGIN:VEVENT
DTSTART;VALUE=DATE:20180630
DTEND;VALUE=DATE:20180701
DTSTAMP:20260422T172544
CREATED:20180615T081558Z
LAST-MODIFIED:20180615T081558Z
UID:4596-1530316800-1530403199@tsvsonnefeld.de
SUMMARY:Testspiel gegen SV Großgarnstadt
DESCRIPTION:Anstoß 15.30 Uhr in Sonnefeld \n
URL:https://tsvsonnefeld.de/kalender/testspiel-gegen-sv-grossgarnstadt/
END:VEVENT
END:VCALENDAR