BEGIN:VCALENDAR
VERSION:2.0
PRODID:-//TSV von 1862 Sonnefeld e.V. - ECPv4.6.18//NONSGML v1.0//EN
CALSCALE:GREGORIAN
METHOD:PUBLISH
X-WR-CALNAME:TSV von 1862 Sonnefeld e.V.
X-ORIGINAL-URL:https://tsvsonnefeld.de
X-WR-CALDESC:Veranstaltungen für TSV von 1862 Sonnefeld e.V.
BEGIN:VEVENT
DTSTART;VALUE=DATE:20180619
DTEND;VALUE=DATE:20180620
DTSTAMP:20260422T235302
CREATED:20180613T122631Z
LAST-MODIFIED:20180613T123706Z
UID:4289-1529366400-1529452799@tsvsonnefeld.de
SUMMARY:Trainingsauftakt 1. Mannschaft
DESCRIPTION:
URL:https://tsvsonnefeld.de/kalender/trainingsauftakt-1-mannschaft/
END:VEVENT
END:VCALENDAR