BEGIN:VCALENDAR
VERSION:2.0
PRODID:-//TSV von 1862 Sonnefeld e.V. - ECPv4.6.18//NONSGML v1.0//EN
CALSCALE:GREGORIAN
METHOD:PUBLISH
X-WR-CALNAME:TSV von 1862 Sonnefeld e.V.
X-ORIGINAL-URL:https://tsvsonnefeld.de
X-WR-CALDESC:Veranstaltungen für TSV von 1862 Sonnefeld e.V.
BEGIN:VEVENT
DTSTART;VALUE=DATE:20190913
DTEND;VALUE=DATE:20190914
DTSTAMP:20260422T204601
CREATED:20190225T071736Z
LAST-MODIFIED:20190225T071736Z
UID:4976-1568332800-1568419199@tsvsonnefeld.de
SUMMARY:TSV AH - Hut Coburg
DESCRIPTION:
URL:https://tsvsonnefeld.de/kalender/tsv-ah-hut-coburg/
END:VEVENT
END:VCALENDAR