BEGIN:VCALENDAR
VERSION:2.0
PRODID:-//TSV von 1862 Sonnefeld e.V. - ECPv4.6.18//NONSGML v1.0//EN
CALSCALE:GREGORIAN
METHOD:PUBLISH
X-WR-CALNAME:TSV von 1862 Sonnefeld e.V.
X-ORIGINAL-URL:https://tsvsonnefeld.de
X-WR-CALDESC:Veranstaltungen für TSV von 1862 Sonnefeld e.V.
BEGIN:VEVENT
DTSTART;VALUE=DATE:20190628
DTEND;VALUE=DATE:20190629
DTSTAMP:20260423T012556
CREATED:20190225T071433Z
LAST-MODIFIED:20190225T071433Z
UID:4966-1561680000-1561766399@tsvsonnefeld.de
SUMMARY:TSV AH - Sylvia Ebersdorf
DESCRIPTION:
URL:https://tsvsonnefeld.de/kalender/tsv-ah-sylvia-ebersdorf/
END:VEVENT
END:VCALENDAR