BEGIN:VCALENDAR
VERSION:2.0
PRODID:-//TSV von 1862 Sonnefeld e.V. - ECPv4.6.18//NONSGML v1.0//EN
CALSCALE:GREGORIAN
METHOD:PUBLISH
X-WR-CALNAME:TSV von 1862 Sonnefeld e.V.
X-ORIGINAL-URL:https://tsvsonnefeld.de
X-WR-CALDESC:Veranstaltungen für TSV von 1862 Sonnefeld e.V.
BEGIN:VEVENT
DTSTART;VALUE=DATE:20190517
DTEND;VALUE=DATE:20190518
DTSTAMP:20260422T222519
CREATED:20190225T070806Z
LAST-MODIFIED:20190225T070806Z
UID:4957-1558051200-1558137599@tsvsonnefeld.de
SUMMARY:TSV AH - TSV Staffelstein
DESCRIPTION:18:30 Uhr \n
URL:https://tsvsonnefeld.de/kalender/tsv-ah-tsv-staffelstein/
END:VEVENT
END:VCALENDAR