BEGIN:VCALENDAR
VERSION:2.0
PRODID:-//TSV von 1862 Sonnefeld e.V. - ECPv4.6.18//NONSGML v1.0//EN
CALSCALE:GREGORIAN
METHOD:PUBLISH
X-WR-CALNAME:TSV von 1862 Sonnefeld e.V.
X-ORIGINAL-URL:https://tsvsonnefeld.de
X-WR-CALDESC:Veranstaltungen für TSV von 1862 Sonnefeld e.V.
BEGIN:VEVENT
DTSTART;VALUE=DATE:20190303
DTEND;VALUE=DATE:20190304
DTSTAMP:20260422T234738
CREATED:20190225T071133Z
LAST-MODIFIED:20190225T071133Z
UID:4964-1551571200-1551657599@tsvsonnefeld.de
SUMMARY:TSV Buch-TSV Sonnefeld
DESCRIPTION:Sportanlage Nürnberg Am Wegfeld 41\, Platz 1\,Am Wegfeld 41\,90427 Nürnberg \n
URL:https://tsvsonnefeld.de/kalender/tsv-buch-tsv-sonnefeld/
END:VEVENT
END:VCALENDAR