BEGIN:VCALENDAR
VERSION:2.0
PRODID:-//TSV von 1862 Sonnefeld e.V. - ECPv4.6.18//NONSGML v1.0//EN
CALSCALE:GREGORIAN
METHOD:PUBLISH
X-WR-CALNAME:TSV von 1862 Sonnefeld e.V.
X-ORIGINAL-URL:https://tsvsonnefeld.de
X-WR-CALDESC:Veranstaltungen für TSV von 1862 Sonnefeld e.V.
BEGIN:VEVENT
DTSTART;VALUE=DATE:20191215
DTEND;VALUE=DATE:20191216
DTSTAMP:20260423T001406
CREATED:20191111T072453Z
LAST-MODIFIED:20191111T072453Z
UID:5050-1576368000-1576454399@tsvsonnefeld.de
SUMMARY:TSV Weihnachtsfeier 2019
DESCRIPTION:
URL:https://tsvsonnefeld.de/kalender/tsv-weihnachtsfeier-2019/
END:VEVENT
END:VCALENDAR