BEGIN:VCALENDAR
VERSION:2.0
PRODID:-//TSV von 1862 Sonnefeld e.V. - ECPv4.6.18//NONSGML v1.0//EN
CALSCALE:GREGORIAN
METHOD:PUBLISH
X-WR-CALNAME:TSV von 1862 Sonnefeld e.V.
X-ORIGINAL-URL:https://tsvsonnefeld.de
X-WR-CALDESC:Veranstaltungen für TSV von 1862 Sonnefeld e.V.
BEGIN:VEVENT
DTSTART;VALUE=DATE:20190224
DTEND;VALUE=DATE:20190225
DTSTAMP:20260422T222820
CREATED:20190115T091725Z
LAST-MODIFIED:20190115T091725Z
UID:4771-1550966400-1551052799@tsvsonnefeld.de
SUMMARY:Vorbereitunggspiel 1. Mannschaft gegen Grub am Forst
DESCRIPTION:16.00 Uhr in Staffelstein (Kunstrasen) \n
URL:https://tsvsonnefeld.de/kalender/vorbereitunggspiel-1-mannschaft-gegen-grub-am-forst/
END:VEVENT
END:VCALENDAR