BEGIN:VCALENDAR
VERSION:2.0
PRODID:-//TSV von 1862 Sonnefeld e.V. - ECPv4.6.18//NONSGML v1.0//EN
CALSCALE:GREGORIAN
METHOD:PUBLISH
X-WR-CALNAME:TSV von 1862 Sonnefeld e.V.
X-ORIGINAL-URL:https://tsvsonnefeld.de
X-WR-CALDESC:Veranstaltungen für TSV von 1862 Sonnefeld e.V.
BEGIN:VEVENT
DTSTART;VALUE=DATE:20190203
DTEND;VALUE=DATE:20190204
DTSTAMP:20260422T185439
CREATED:20190115T091555Z
LAST-MODIFIED:20190115T091555Z
UID:4767-1549152000-1549238399@tsvsonnefeld.de
SUMMARY:Vorbereitungsspiel 1. Mannschaft gegen Großgarnstadt
DESCRIPTION:14.00 Uhr Hartplatz Sonnefeld \n
URL:https://tsvsonnefeld.de/kalender/vorbereitungsspiel-1-mannschaft-gegen-grossgarnstadt/
END:VEVENT
END:VCALENDAR