BEGIN:VCALENDAR
VERSION:2.0
PRODID:-//TSV von 1862 Sonnefeld e.V. - ECPv4.6.18//NONSGML v1.0//EN
CALSCALE:GREGORIAN
METHOD:PUBLISH
X-WR-CALNAME:TSV von 1862 Sonnefeld e.V.
X-ORIGINAL-URL:https://tsvsonnefeld.de
X-WR-CALDESC:Veranstaltungen für TSV von 1862 Sonnefeld e.V.
BEGIN:VEVENT
DTSTART;VALUE=DATE:20190202
DTEND;VALUE=DATE:20190203
DTSTAMP:20260422T171810
CREATED:20190115T091516Z
LAST-MODIFIED:20190115T091516Z
UID:4765-1549065600-1549151999@tsvsonnefeld.de
SUMMARY:Vorbereitungsspiel 1. Mannschaft gegen TSV Mönchröden
DESCRIPTION:17.30 Uhr Kunstrasenplatz Rödental \n
URL:https://tsvsonnefeld.de/kalender/vorbereitungsspiel-1-mannschaft-gegen-tsv-moenchroeden/
END:VEVENT
END:VCALENDAR